BEGIN:VCALENDAR
VERSION:2.0
PRODID:-//C.ex Group - ECPv4.8.1//NONSGML v1.0//EN
CALSCALE:GREGORIAN
METHOD:PUBLISH
X-WR-CALNAME:C.ex Group
X-ORIGINAL-URL:https://cex.com.au
X-WR-CALDESC:Events for C.ex Group
BEGIN:VEVENT
DTSTART;TZID=Australia/Sydney:20190504T200000
DTEND;TZID=Australia/Sydney:20190504T230000
DTSTAMP:20190301T103602
CREATED:20181102T055510Z
LAST-MODIFIED:20181128T045125Z
UID:1569-1557000000-1557010800@cex.com.au
SUMMARY:THE ROBERTSON BROTHERS
DESCRIPTION:
URL:https://cex.com.au/event/the-robertson-brothers/
LOCATION:C.ex Coffs\, 2-6 Vernon Street\, Coffs Harbour\, NSW\, Australia
GEO:-30.2952851;153.1158245
X-APPLE-STRUCTURED-LOCATION;VALUE=URI;X-ADDRESS=C.ex Coffs 2-6 Vernon Street Coffs Harbour NSW Australia;X-APPLE-RADIUS=500;X-TITLE=2-6 Vernon Street:geo:153.1158245,-30.2952851
CATEGORIES:Ticketed Show
END:VEVENT
END:VCALENDAR