BEGIN:VCALENDAR
VERSION:2.0
PRODID:-//C.ex Group - ECPv4.8.1//NONSGML v1.0//EN
CALSCALE:GREGORIAN
METHOD:PUBLISH
X-WR-CALNAME:C.ex Group
X-ORIGINAL-URL:https://cex.com.au
X-WR-CALDESC:Events for C.ex Group
BEGIN:VEVENT
DTSTART;TZID=Australia/Sydney:20190413T200000
DTEND;TZID=Australia/Sydney:20190413T200000
DTSTAMP:20190301T103543
CREATED:20190212T015019Z
LAST-MODIFIED:20190212T015121Z
UID:3758-1555185600-1555185600@cex.com.au
SUMMARY:HAT FITZ & CARA
DESCRIPTION:
URL:https://cex.com.au/event/hat-fitz-cara/
LOCATION:C.ex Woolgoolga\, 18 Boundary Street\, Woolgoolga\, NSW\, Australia
GEO:-30.1097385;153.1979677
X-APPLE-STRUCTURED-LOCATION;VALUE=URI;X-ADDRESS=C.ex Woolgoolga 18 Boundary Street Woolgoolga NSW Australia;X-APPLE-RADIUS=500;X-TITLE=18 Boundary Street:geo:153.1979677,-30.1097385
CATEGORIES:Ticketed Show
END:VEVENT
END:VCALENDAR